BEGIN:VCALENDAR
VERSION:2.0
PRODID:-//Central Coast Classic Motorcycle Club - ECPv6.15.11//NONSGML v1.0//EN
CALSCALE:GREGORIAN
METHOD:PUBLISH
X-WR-CALNAME:Central Coast Classic Motorcycle Club
X-ORIGINAL-URL:https://centralcoastclassicmc.com
X-WR-CALDESC:Events for Central Coast Classic Motorcycle Club
REFRESH-INTERVAL;VALUE=DURATION:PT1H
X-Robots-Tag:noindex
X-PUBLISHED-TTL:PT1H
BEGIN:VTIMEZONE
TZID:America/Los_Angeles
BEGIN:DAYLIGHT
TZOFFSETFROM:-0800
TZOFFSETTO:-0700
TZNAME:PDT
DTSTART:20240310T100000
END:DAYLIGHT
BEGIN:STANDARD
TZOFFSETFROM:-0700
TZOFFSETTO:-0800
TZNAME:PST
DTSTART:20241103T090000
END:STANDARD
BEGIN:DAYLIGHT
TZOFFSETFROM:-0800
TZOFFSETTO:-0700
TZNAME:PDT
DTSTART:20250309T100000
END:DAYLIGHT
BEGIN:STANDARD
TZOFFSETFROM:-0700
TZOFFSETTO:-0800
TZNAME:PST
DTSTART:20251102T090000
END:STANDARD
BEGIN:DAYLIGHT
TZOFFSETFROM:-0800
TZOFFSETTO:-0700
TZNAME:PDT
DTSTART:20260308T100000
END:DAYLIGHT
BEGIN:STANDARD
TZOFFSETFROM:-0700
TZOFFSETTO:-0800
TZNAME:PST
DTSTART:20261101T090000
END:STANDARD
END:VTIMEZONE
BEGIN:VEVENT
DTSTART;TZID=America/Los_Angeles:20250912T120000
DTEND;TZID=America/Los_Angeles:20250912T130000
DTSTAMP:20260423T102939
CREATED:20230831T235045Z
LAST-MODIFIED:20250906T214458Z
UID:7485-1757678400-1757682000@centralcoastclassicmc.com
SUMMARY:Weekly Friday Lunch At Cool Cats
DESCRIPTION:We meet every Friday at Cool Cats at Noon in San Luis Obispo\, CA. Cool Cats is located at 3165 Broad Street\, Suite 102.  We are usually joined by members from www.Coast-Riders.org\, everyone is welcome.  Here we enjoy other classic motorcyclist company and the bikes they ride. We discuss a little club business\, have lunch\, and just have lots of fun and laughs.
URL:https://centralcoastclassicmc.com/event/weekly-friday-lunch-at-cool-cats/
LOCATION:Cool Cats\, 3165 Broad St Ste 102\, San Luis Obispo\, CA\, 93401\, United States
CATEGORIES:Weekly Friday Lunch
ATTACH;FMTTYPE=image/jpeg:https://centralcoastclassicmc.com/wp-content/uploads/2023/08/20250620_124627-scaled-e1754432294683.jpg
ORGANIZER;CN="Central Coast Classic Motorcycle Club":MAILTO:CentralCoastClassicMC@gmail.co
END:VEVENT
END:VCALENDAR