BEGIN:VCALENDAR
VERSION:2.0
PRODID:-//Central Coast Classic Motorcycle Club - ECPv6.15.11//NONSGML v1.0//EN
CALSCALE:GREGORIAN
METHOD:PUBLISH
X-WR-CALNAME:Central Coast Classic Motorcycle Club
X-ORIGINAL-URL:https://centralcoastclassicmc.com
X-WR-CALDESC:Events for Central Coast Classic Motorcycle Club
REFRESH-INTERVAL;VALUE=DURATION:PT1H
X-Robots-Tag:noindex
X-PUBLISHED-TTL:PT1H
BEGIN:VTIMEZONE
TZID:America/Los_Angeles
BEGIN:DAYLIGHT
TZOFFSETFROM:-0800
TZOFFSETTO:-0700
TZNAME:PDT
DTSTART:20240310T100000
END:DAYLIGHT
BEGIN:STANDARD
TZOFFSETFROM:-0700
TZOFFSETTO:-0800
TZNAME:PST
DTSTART:20241103T090000
END:STANDARD
BEGIN:DAYLIGHT
TZOFFSETFROM:-0800
TZOFFSETTO:-0700
TZNAME:PDT
DTSTART:20250309T100000
END:DAYLIGHT
BEGIN:STANDARD
TZOFFSETFROM:-0700
TZOFFSETTO:-0800
TZNAME:PST
DTSTART:20251102T090000
END:STANDARD
BEGIN:DAYLIGHT
TZOFFSETFROM:-0800
TZOFFSETTO:-0700
TZNAME:PDT
DTSTART:20260308T100000
END:DAYLIGHT
BEGIN:STANDARD
TZOFFSETFROM:-0700
TZOFFSETTO:-0800
TZNAME:PST
DTSTART:20261101T090000
END:STANDARD
END:VTIMEZONE
BEGIN:VEVENT
DTSTART;TZID=America/Los_Angeles:20251207T090000
DTEND;TZID=America/Los_Angeles:20251207T170000
DTSTAMP:20260423T102834
CREATED:20231202T014718Z
LAST-MODIFIED:20251204T004600Z
UID:8158-1765098000-1765126800@centralcoastclassicmc.com
SUMMARY:45th SLO County Toy Run
DESCRIPTION:Reminder: Come early to check out the bikes.  This is not a Central Coast Classic Motorcycle Club Sponsored Ride.  Admission is $10 and a new unwrapped toy for kids 1 to 16 or $20 without a toy.  It’s a short ride to Arroyo Grande Portuguese Hall with a Chicken BBQ.  A lot of the country has snow and or cold weather so this is kind of a rub-it -in ride to send photos to all your relatives!  If you just want to checkout the bikes in Avila Beach and go on your own ride for breakfast\, etc. bring your toy and Larry will deliver it for you.  Let’s have a good showing of classic Bikes.
URL:https://centralcoastclassicmc.com/event/43rd-slo-county-toy-run/
LOCATION:Avila Beach\, Avila Beach\, Avila Beach\, CA\, United States
CATEGORIES:Road Ride
ATTACH;FMTTYPE=image/jpeg:https://centralcoastclassicmc.com/wp-content/uploads/2023/12/558013474_1211523157685136_7213074511641391188_n.jpg
END:VEVENT
BEGIN:VEVENT
DTSTART;TZID=America/Los_Angeles:20250919T090000
DTEND;TZID=America/Los_Angeles:20250919T150000
DTSTAMP:20260423T102834
CREATED:20250906T213227Z
LAST-MODIFIED:20250906T213500Z
UID:9026-1758272400-1758294000@centralcoastclassicmc.com
SUMMARY:BSAOC Nick Nicholson Memorial Ride
DESCRIPTION:BSAOC Nick Nicholson Memorial Ride Friday September 19th.  Riders meeting 9:45 AM at Beach Bungalow Inn & Suites\, 1050 Morro Ave\, Morro Bay CA 93442.  Return to Morrow Bay 2:00 to 3:00 PM
URL:https://centralcoastclassicmc.com/event/bsaoc-nick-nicholson-memorial-ride/
LOCATION:Beach Bungalow Inn & Suites\, 1050 Morro Ave\, Morro Bay\, CA\, 93442\, United States
CATEGORIES:Road Ride
ATTACH;FMTTYPE=image/webp:https://centralcoastclassicmc.com/wp-content/uploads/2025/09/BSAOC_FLYER_NORTH_SOUTH_RALLY_2025_Bweb-e1757194482383.webp
ORGANIZER;CN="Steve Ortiz":MAILTO:ortizst1@hotmail.com
END:VEVENT
BEGIN:VEVENT
DTSTART;TZID=America/Los_Angeles:20250918T090000
DTEND;TZID=America/Los_Angeles:20250918T140000
DTSTAMP:20260423T102834
CREATED:20250906T212520Z
LAST-MODIFIED:20250906T213632Z
UID:9018-1758186000-1758204000@centralcoastclassicmc.com
SUMMARY:BSAOC Barry Smith Memorial Ride
DESCRIPTION:BSAOC Barry Smith Memorial Ride.  Meet:  9:00 AM in parking lot of Beach Bungalow Inn & Suites\, 1050 Morro Ave\, Morro Bay Ca.  Return to Morro bay approx. 2:00 PM
URL:https://centralcoastclassicmc.com/event/bsaoc-barry-smith-memorial-ride/
LOCATION:Beach Bungalow Inn & Suites\, 1050 Morro Ave\, Morro Bay\, CA\, 93442\, United States
CATEGORIES:Road Ride
ATTACH;FMTTYPE=image/webp:https://centralcoastclassicmc.com/wp-content/uploads/2025/09/BSAOC_FLYER_NORTH_SOUTH_RALLY_2025_Bweb-e1757194482383.webp
ORGANIZER;CN="Central Coast Classic Motorcycle Club":MAILTO:CentralCoastClassicMC@gmail.co
END:VEVENT
END:VCALENDAR