BEGIN:VCALENDAR
VERSION:2.0
PRODID:-//Central Coast Classic Motorcycle Club - ECPv6.15.11//NONSGML v1.0//EN
CALSCALE:GREGORIAN
METHOD:PUBLISH
X-WR-CALNAME:Central Coast Classic Motorcycle Club
X-ORIGINAL-URL:https://centralcoastclassicmc.com
X-WR-CALDESC:Events for Central Coast Classic Motorcycle Club
REFRESH-INTERVAL;VALUE=DURATION:PT1H
X-Robots-Tag:noindex
X-PUBLISHED-TTL:PT1H
BEGIN:VTIMEZONE
TZID:America/Los_Angeles
BEGIN:DAYLIGHT
TZOFFSETFROM:-0800
TZOFFSETTO:-0700
TZNAME:PDT
DTSTART:20250309T100000
END:DAYLIGHT
BEGIN:STANDARD
TZOFFSETFROM:-0700
TZOFFSETTO:-0800
TZNAME:PST
DTSTART:20251102T090000
END:STANDARD
BEGIN:DAYLIGHT
TZOFFSETFROM:-0800
TZOFFSETTO:-0700
TZNAME:PDT
DTSTART:20260308T100000
END:DAYLIGHT
BEGIN:STANDARD
TZOFFSETFROM:-0700
TZOFFSETTO:-0800
TZNAME:PST
DTSTART:20261101T090000
END:STANDARD
BEGIN:DAYLIGHT
TZOFFSETFROM:-0800
TZOFFSETTO:-0700
TZNAME:PDT
DTSTART:20270314T100000
END:DAYLIGHT
BEGIN:STANDARD
TZOFFSETFROM:-0700
TZOFFSETTO:-0800
TZNAME:PST
DTSTART:20271107T090000
END:STANDARD
END:VTIMEZONE
BEGIN:VEVENT
DTSTART;TZID=America/Los_Angeles:20260503T110000
DTEND;TZID=America/Los_Angeles:20260503T120000
DTSTAMP:20260423T025739
CREATED:20230831T203841Z
LAST-MODIFIED:20260402T234947Z
UID:7421-1777806000-1777809600@centralcoastclassicmc.com
SUMMARY:Monthly Meeting at Budget Cafe
DESCRIPTION:The 2026 VJMC National Rally will be hosted by the Central Coast Classic Motorcycle Clubalong with sponsor Russ Brown Motorcycle Lawyers and others. This will be a four-dayevent beginning on Thursday Night Farmer’s Market\, Ride Friday\, Banquet Friday Night\, Show and Swap Meet Saturday and another Ride Sunday. People’s choiceawards\, commemorative tee shirts\, vendors\, food trucks and more. Japanese Motorcycle Show ClassesBest in Class YamahaBest in Class SuzukiBest in Class KawasakiBest in Class Honda 190cc & belowBest in Class Honda 191cc to 450ccBest in Class Honda 500cc to 900cc Best in Class Honda 1000cc & overBest in Class Orphan JapaneseBest in Class Enduro / OffroadBest in Class Tiddler – 200cc & belowBest in Class Mini / ScooterBest in Class Competition (Dragster\, Flat Track\, Road Racer\, MotoCross)Best in Class Café Racer/Street TrackerBest in Class Modern ClassicBest in Class Custom / SpecialMerit Award – Determined by VJMC panel. All makes welcome\, supporting classes: British American European Original/Unrestored/Patina Pre-War (pre-1941) Three Wheelers and Sidecars Rally Host Hotel: Springhill Suites\, 701 Froom Ranch Way\, San Luis Obispo\, CA 93405 Click here for special Group Rate Friday Night’s banquet will be held at 6:00 PM at The Pavilion at SLO Ranch 871 FROOM RANCH WAYSAN LUIS OBISPO\, CA\, 93405  catered by Paso Robles Brewing Co.
URL:https://centralcoastclassicmc.com/event/monthly-meeting-at-budget-cafe/
LOCATION:Budget Cafe\, 3121 South Higuera Street #J\, San Luis Obispo\, CA\, 93401
CATEGORIES:Monthly Meeting
ATTACH;FMTTYPE=image/jpeg:https://centralcoastclassicmc.com/wp-content/uploads/2023/08/20151004_113430-1.jpg
ORGANIZER;CN="Central Coast Classic Motorcycle Club":MAILTO:CentralCoastClassicMC@gmail.co
END:VEVENT
BEGIN:VEVENT
DTSTART;TZID=America/Los_Angeles:20260917T090000
DTEND;TZID=America/Los_Angeles:20260920T170000
DTSTAMP:20260423T025739
CREATED:20251002T225500Z
LAST-MODIFIED:20260422T171106Z
UID:9044-1789635600-1789923600@centralcoastclassicmc.com
SUMMARY:2026 VJMC National Rally and Swap Meet
DESCRIPTION:The 2026 VJMC National Rally will be hosted by the Central Coast Classic Motorcycle Clubalong with sponsor Russ Brown Motorcycle Lawyers and others. This will be a four-dayevent beginning on Thursday Night Farmer’s Market\, Ride Friday\, Banquet Friday Night\, Show and Swap Meet Saturday and another Ride Sunday. People’s choiceawards\, commemorative tee shirts\, vendors\, food trucks and more. Japanese Motorcycle Show ClassesBest in Class YamahaBest in Class SuzukiBest in Class KawasakiBest in Class Honda 190cc & belowBest in Class Honda 191cc to 450ccBest in Class Honda 500cc to 900cc Best in Class Honda 1000cc & overBest in Class Orphan JapaneseBest in Class Enduro / OffroadBest in Class Tiddler – 200cc & belowBest in Class Mini / ScooterBest in Class Competition (Dragster\, Flat Track\, Road Racer\, MotoCross)Best in Class Café Racer/Street TrackerBest in Class Modern ClassicBest in Class Custom / SpecialMerit Award – Determined by VJMC panel. All makes welcome\, supporting classes: British American European Original/Unrestored/Patina Pre-War (pre-1941) Three Wheelers and Sidecars Rally Host Hotel: Springhill Suites\, 701 Froom Ranch Way\, San Luis Obispo\, CA 93405 Click here for special Group Rate Friday Night’s banquet will be held at 6:00 PM at The Pavilion at SLO Ranch 871 FROOM RANCH WAYSAN LUIS OBISPO\, CA\, 93405  catered by Paso Robles Brewing Co.
URL:https://centralcoastclassicmc.com/event/2026-vjmc-national-rally-and-swap-meet/
LOCATION:ARISE Central Coast\, 1775 Calle Joaquin\, San Luis Obispo\, CA\, 93405\, United States
ATTACH;FMTTYPE=image/jpeg:https://centralcoastclassicmc.com/wp-content/uploads/2025/10/20250920_112042-scaled-e1759445350158.jpg
ORGANIZER;CN="Central Coast Classic Motorcycle Club":MAILTO:CentralCoastClassicMC@gmail.co
END:VEVENT
END:VCALENDAR